BEGIN:VCALENDAR
VERSION:2.0
PRODID:-//hacksw/handcal//NONSGML v1.0//EN
BEGIN:VEVENT
SUMMARY:echec -scrabble
UID:8b99b5b7-538c-4458-952e-82bbb617ae63
DTSTART:20261007T073000Z
DTEND:20261007T100000Z
LOCATION:Localisation   
CATEGORIES:Entrainement
STATUS:
URL;VALUE=URI:https://www.acgr22.fr/evenements/2026/10/07/echec-scrabble-2442354
END:VEVENT
END:VCALENDAR
