BEGIN:VCALENDAR
VERSION:2.0
PRODID:-//hacksw/handcal//NONSGML v1.0//EN
BEGIN:VEVENT
SUMMARY:Rando 5km
UID:ad4f94da-3fb7-4b3d-b713-cc115a2ab0f5
DTSTART:20261006T120000Z
DTEND:20261006T220000Z
LOCATION:Localisation   
CATEGORIES:Entrainement
STATUS:
URL;VALUE=URI:https://www.acgr22.fr/evenements/2026/10/06/rando-5km-2442399
END:VEVENT
END:VCALENDAR
