BEGIN:VCALENDAR
VERSION:2.0
PRODID:-//hacksw/handcal//NONSGML v1.0//EN
BEGIN:VEVENT
SUMMARY:photo
UID:c60fc952-be0a-40ce-9162-2f49d257c2cb
DTSTART:20261006T080000Z
DTEND:20261006T100000Z
LOCATION:Localisation   
CATEGORIES:Entrainement
STATUS:
URL;VALUE=URI:https://www.acgr22.fr/evenements/2026/10/06/photo-2442304
END:VEVENT
END:VCALENDAR
