BEGIN:VCALENDAR
VERSION:2.0
PRODID:-//hacksw/handcal//NONSGML v1.0//EN
BEGIN:VEVENT
SUMMARY:danse bretonne
UID:860dcf44-ed76-4074-8899-ed33a1ae1b75
DTSTART:20261006T181500Z
DTEND:20261006T191500Z
LOCATION:Localisation   
CATEGORIES:Entrainement
STATUS:
URL;VALUE=URI:https://www.acgr22.fr/evenements/2026/10/06/danse-bretonne-2442324
END:VEVENT
END:VCALENDAR
