BEGIN:VCALENDAR
VERSION:2.0
PRODID:-//hacksw/handcal//NONSGML v1.0//EN
BEGIN:VEVENT
SUMMARY:Rando 8 km ou 12 km
UID:30d8f157-1fab-4712-b415-28588ad12030
DTSTART:20261005T113000Z
DTEND:20261005T220000Z
LOCATION:Localisation   
CATEGORIES:Entrainement
STATUS:
URL;VALUE=URI:https://www.acgr22.fr/evenements/2026/10/05/rando-8-km-ou-12-km-2442384
END:VEVENT
END:VCALENDAR
