BEGIN:VCALENDAR
VERSION:2.0
PRODID:-//hacksw/handcal//NONSGML v1.0//EN
BEGIN:VEVENT
SUMMARY:Rando 8 km
UID:5a52ed5d-7ca4-4ab1-9b6b-ad445f827318
DTSTART:20261004T070000Z
DTEND:20261004T220000Z
LOCATION:Localisation   
CATEGORIES:Entrainement
STATUS:
URL;VALUE=URI:https://www.acgr22.fr/evenements/2026/10/04/rando-8-km-2442426
END:VEVENT
END:VCALENDAR
