BEGIN:VCALENDAR
VERSION:2.0
PRODID:-//hacksw/handcal//NONSGML v1.0//EN
BEGIN:VEVENT
SUMMARY:Brioches caritatives en faveur de l'ADEPEI
UID:1087486f-b252-457d-a98f-b89958bfd17b
DTSTART:20261002T073000Z
DTEND:20261002T150000Z
LOCATION:Localisation   
CATEGORIES:Sportif
STATUS:
URL;VALUE=URI:https://www.acgr22.fr/evenements/2026/10/02/brioches-caritatives-en-faveur-de-ladepei-2442466
END:VEVENT
END:VCALENDAR
