BEGIN:VCALENDAR
VERSION:2.0
PRODID:-//hacksw/handcal//NONSGML v1.0//EN
BEGIN:VEVENT
SUMMARY:yoga
UID:f890fa53-e649-4baa-ad4e-4c37be04e607
DTSTART:20261001T070000Z
DTEND:20261001T083000Z
LOCATION:Localisation   
CATEGORIES:Entrainement
STATUS:
URL;VALUE=URI:https://www.acgr22.fr/evenements/2026/10/01/yoga-2442275
END:VEVENT
END:VCALENDAR
