BEGIN:VCALENDAR
VERSION:2.0
PRODID:-//hacksw/handcal//NONSGML v1.0//EN
BEGIN:VEVENT
SUMMARY:sudoku (salle D )
UID:2d84f5d2-5377-48f6-bd4b-d03afc54aaed
DTSTART:20261001T073000Z
DTEND:20261001T093000Z
LOCATION:Localisation   
CATEGORIES:Entrainement
STATUS:
URL;VALUE=URI:https://www.acgr22.fr/evenements/2026/10/01/sudoku-salle-d-2442335
END:VEVENT
END:VCALENDAR
