BEGIN:VCALENDAR
VERSION:2.0
PRODID:-//hacksw/handcal//NONSGML v1.0//EN
BEGIN:VEVENT
SUMMARY:Rando 15km+++
UID:ad55ecfa-23e2-49ba-ae44-c180e6429df1
DTSTART:20261001T110000Z
DTEND:20261001T220000Z
LOCATION:Localisation   
CATEGORIES:Entrainement
STATUS:
URL;VALUE=URI:https://www.acgr22.fr/evenements/2026/10/01/rando-15km-2442411
END:VEVENT
END:VCALENDAR
