BEGIN:VCALENDAR
VERSION:2.0
PRODID:-//hacksw/handcal//NONSGML v1.0//EN
BEGIN:VEVENT
SUMMARY:echec -scrabble
UID:be70fd7f-fac2-44e9-b70d-004f06e3734f
DTSTART:20260930T073000Z
DTEND:20260930T100000Z
LOCATION:Localisation   
CATEGORIES:Entrainement
STATUS:
URL;VALUE=URI:https://www.acgr22.fr/evenements/2026/09/30/echec-scrabble-2442350
END:VEVENT
END:VCALENDAR
