BEGIN:VCALENDAR
VERSION:2.0
PRODID:-//hacksw/handcal//NONSGML v1.0//EN
BEGIN:VEVENT
SUMMARY:Rando 5km
UID:054e5cd0-6061-4e05-ba5f-7241f00badb1
DTSTART:20260929T120000Z
DTEND:20260929T220000Z
LOCATION:Localisation   
CATEGORIES:Entrainement
STATUS:
URL;VALUE=URI:https://www.acgr22.fr/evenements/2026/09/29/rando-5km-2442395
END:VEVENT
END:VCALENDAR
