BEGIN:VCALENDAR
VERSION:2.0
PRODID:-//hacksw/handcal//NONSGML v1.0//EN
BEGIN:VEVENT
SUMMARY:photo
UID:dde17fc0-d284-4d5b-af50-a05c720b0965
DTSTART:20260929T080000Z
DTEND:20260929T100000Z
LOCATION:Localisation   
CATEGORIES:Entrainement
STATUS:
URL;VALUE=URI:https://www.acgr22.fr/evenements/2026/09/29/photo-2442309
END:VEVENT
END:VCALENDAR
