BEGIN:VCALENDAR
VERSION:2.0
PRODID:-//hacksw/handcal//NONSGML v1.0//EN
BEGIN:VEVENT
SUMMARY:danse bretonne
UID:f6c1d919-be1d-42e3-9dce-d7133bced640
DTSTART:20260929T181500Z
DTEND:20260929T191500Z
LOCATION:Localisation   
CATEGORIES:Entrainement
STATUS:
URL;VALUE=URI:https://www.acgr22.fr/evenements/2026/09/29/danse-bretonne-2442320
END:VEVENT
END:VCALENDAR
