BEGIN:VCALENDAR
VERSION:2.0
PRODID:-//hacksw/handcal//NONSGML v1.0//EN
BEGIN:VEVENT
SUMMARY:Rando 8 km ou 12 km
UID:bba2dcd4-e1f5-41db-bf97-b09d493a9ba5
DTSTART:20260928T113000Z
DTEND:20260928T220000Z
LOCATION:Localisation   
CATEGORIES:Entrainement
STATUS:
URL;VALUE=URI:https://www.acgr22.fr/evenements/2026/09/28/rando-8-km-ou-12-km-2442380
END:VEVENT
END:VCALENDAR
