BEGIN:VCALENDAR
VERSION:2.0
PRODID:-//hacksw/handcal//NONSGML v1.0//EN
BEGIN:VEVENT
SUMMARY:Rando 8 km
UID:72cea63e-5d99-4a96-ad2d-8957564ac277
DTSTART:20260927T070000Z
DTEND:20260927T220000Z
LOCATION:Localisation   
CATEGORIES:Entrainement
STATUS:
URL;VALUE=URI:https://www.acgr22.fr/evenements/2026/09/27/rando-8-km-2442431
END:VEVENT
END:VCALENDAR
