BEGIN:VCALENDAR
VERSION:2.0
PRODID:-//hacksw/handcal//NONSGML v1.0//EN
BEGIN:VEVENT
SUMMARY:permanence - jeux de societe
UID:56666170-eee1-4ed3-901b-f057fb4ca91f
DTSTART:20260925T113000Z
DTEND:20260925T143000Z
LOCATION:Localisation   
CATEGORIES:Entrainement
STATUS:
URL;VALUE=URI:https://www.acgr22.fr/evenements/2026/09/25/permanence-jeux-de-societe-2442370
END:VEVENT
END:VCALENDAR
