BEGIN:VCALENDAR
VERSION:2.0
PRODID:-//hacksw/handcal//NONSGML v1.0//EN
BEGIN:VEVENT
SUMMARY:art floral
UID:5d44458f-9e55-447e-8b52-58b59b46aba7
DTSTART:20260925T074500Z
DTEND:20260925T100000Z
LOCATION:Localisation   
CATEGORIES:Entrainement
STATUS:
URL;VALUE=URI:https://www.acgr22.fr/evenements/2026/09/25/art-floral-2441344
END:VEVENT
END:VCALENDAR
