BEGIN:VCALENDAR
VERSION:2.0
PRODID:-//hacksw/handcal//NONSGML v1.0//EN
BEGIN:VEVENT
SUMMARY:yoga
UID:8e0444e1-7382-4eb4-bd73-80bec96de2a7
DTSTART:20260924T070000Z
DTEND:20260924T083000Z
LOCATION:Localisation   
CATEGORIES:Entrainement
STATUS:
URL;VALUE=URI:https://www.acgr22.fr/evenements/2026/09/24/yoga-2442282
END:VEVENT
END:VCALENDAR
