BEGIN:VCALENDAR
VERSION:2.0
PRODID:-//hacksw/handcal//NONSGML v1.0//EN
BEGIN:VEVENT
SUMMARY:sudoku (salle D )
UID:999cce20-ff01-4176-bc89-202663538800
DTSTART:20260924T073000Z
DTEND:20260924T093000Z
LOCATION:Localisation   
CATEGORIES:Entrainement
STATUS:
URL;VALUE=URI:https://www.acgr22.fr/evenements/2026/09/24/sudoku-salle-d-2442340
END:VEVENT
END:VCALENDAR
