BEGIN:VCALENDAR
VERSION:2.0
PRODID:-//hacksw/handcal//NONSGML v1.0//EN
BEGIN:VEVENT
SUMMARY:Rando 15km+++
UID:e6b71f51-5062-4976-8b5d-0836d42682bc
DTSTART:20260924T110000Z
DTEND:20260924T220000Z
LOCATION:Localisation   
CATEGORIES:Entrainement
STATUS:
URL;VALUE=URI:https://www.acgr22.fr/evenements/2026/09/24/rando-15km-2442416
END:VEVENT
END:VCALENDAR
