BEGIN:VCALENDAR
VERSION:2.0
PRODID:-//hacksw/handcal//NONSGML v1.0//EN
BEGIN:VEVENT
SUMMARY:musique
UID:d5bbd36e-95c7-411f-a03a-facb50c4b859
DTSTART:20260923T073000Z
DTEND:20260923T100000Z
LOCATION:Localisation   
CATEGORIES:Entrainement
STATUS:
URL;VALUE=URI:https://www.acgr22.fr/evenements/2026/09/23/musique-2442293
END:VEVENT
END:VCALENDAR
