BEGIN:VCALENDAR
VERSION:2.0
PRODID:-//hacksw/handcal//NONSGML v1.0//EN
BEGIN:VEVENT
SUMMARY:echec -scrabble
UID:f40c96e2-5e36-43d4-bedc-bfe1d51f14db
DTSTART:20260923T073000Z
DTEND:20260923T100000Z
LOCATION:Localisation   
CATEGORIES:Entrainement
STATUS:
URL;VALUE=URI:https://www.acgr22.fr/evenements/2026/09/23/echec-scrabble-2442355
END:VEVENT
END:VCALENDAR
