BEGIN:VCALENDAR
VERSION:2.0
PRODID:-//hacksw/handcal//NONSGML v1.0//EN
BEGIN:VEVENT
SUMMARY:Rando 5km
UID:5d07db41-f2aa-4468-9634-9ea7afb6ce41
DTSTART:20260922T120000Z
DTEND:20260922T220000Z
LOCATION:Localisation   
CATEGORIES:Entrainement
STATUS:
URL;VALUE=URI:https://www.acgr22.fr/evenements/2026/09/22/rando-5km-2442400
END:VEVENT
END:VCALENDAR
