BEGIN:VCALENDAR
VERSION:2.0
PRODID:-//hacksw/handcal//NONSGML v1.0//EN
BEGIN:VEVENT
SUMMARY:photo
UID:c585ce5c-4fe1-4909-92f6-dbc6dc6af8be
DTSTART:20260922T080000Z
DTEND:20260922T100000Z
LOCATION:Localisation   
CATEGORIES:Entrainement
STATUS:
URL;VALUE=URI:https://www.acgr22.fr/evenements/2026/09/22/photo-2442316
END:VEVENT
END:VCALENDAR
