BEGIN:VCALENDAR
VERSION:2.0
PRODID:-//hacksw/handcal//NONSGML v1.0//EN
BEGIN:VEVENT
SUMMARY:danse bretonne
UID:f66db960-4702-47c3-baef-4838efe3a19d
DTSTART:20260922T181500Z
DTEND:20260922T191500Z
LOCATION:Localisation   
CATEGORIES:Entrainement
STATUS:
URL;VALUE=URI:https://www.acgr22.fr/evenements/2026/09/22/danse-bretonne-2442325
END:VEVENT
END:VCALENDAR
