BEGIN:VCALENDAR
VERSION:2.0
PRODID:-//hacksw/handcal//NONSGML v1.0//EN
BEGIN:VEVENT
SUMMARY:tricot
UID:7fb44181-778a-49e4-987e-fb7c5a73d78d
DTSTART:20260921T070000Z
DTEND:20260921T100000Z
LOCATION:Localisation   
CATEGORIES:Entrainement
STATUS:
URL;VALUE=URI:https://www.acgr22.fr/evenements/2026/09/21/tricot-2441971
END:VEVENT
END:VCALENDAR
