BEGIN:VCALENDAR
VERSION:2.0
PRODID:-//hacksw/handcal//NONSGML v1.0//EN
BEGIN:VEVENT
SUMMARY:Rando 8 km ou 12 km
UID:9b57595c-f45f-455d-87b1-02db36631d61
DTSTART:20260921T113000Z
DTEND:20260921T220000Z
LOCATION:Localisation   
CATEGORIES:Entrainement
STATUS:
URL;VALUE=URI:https://www.acgr22.fr/evenements/2026/09/21/rando-8-km-ou-12-km-2442385
END:VEVENT
END:VCALENDAR
