BEGIN:VCALENDAR
VERSION:2.0
PRODID:-//hacksw/handcal//NONSGML v1.0//EN
BEGIN:VEVENT
SUMMARY:Rando 8 km
UID:7b71951d-d9b4-4444-8ead-af8b5fe2b785
DTSTART:20260920T070000Z
DTEND:20260920T220000Z
LOCATION:Localisation   
CATEGORIES:Entrainement
STATUS:
URL;VALUE=URI:https://www.acgr22.fr/evenements/2026/09/20/rando-8-km-2442438
END:VEVENT
END:VCALENDAR
