BEGIN:VCALENDAR
VERSION:2.0
PRODID:-//hacksw/handcal//NONSGML v1.0//EN
BEGIN:VEVENT
SUMMARY:permanence - jeux de societe
UID:97a52fcb-4c96-48c8-8cc5-1e6c5aa2656c
DTSTART:20260918T113000Z
DTEND:20260918T143000Z
LOCATION:Localisation   
CATEGORIES:Entrainement
STATUS:
URL;VALUE=URI:https://www.acgr22.fr/evenements/2026/09/18/permanence-jeux-de-societe-2442377
END:VEVENT
END:VCALENDAR
