BEGIN:VCALENDAR
VERSION:2.0
PRODID:-//hacksw/handcal//NONSGML v1.0//EN
BEGIN:VEVENT
SUMMARY:art floral
UID:82eb5427-c5c0-48e0-aea4-30a4c596452d
DTSTART:20260918T074500Z
DTEND:20260918T100000Z
LOCATION:Localisation   
CATEGORIES:Entrainement
STATUS:
URL;VALUE=URI:https://www.acgr22.fr/evenements/2026/09/18/art-floral-2441343
END:VEVENT
END:VCALENDAR
