BEGIN:VCALENDAR
VERSION:2.0
PRODID:-//hacksw/handcal//NONSGML v1.0//EN
BEGIN:VEVENT
SUMMARY:yoga
UID:7ceb8eef-bc48-411d-92ff-cef89ff1c699
DTSTART:20260917T070000Z
DTEND:20260917T083000Z
LOCATION:Localisation   
CATEGORIES:Entrainement
STATUS:
URL;VALUE=URI:https://www.acgr22.fr/evenements/2026/09/17/yoga-2442269
END:VEVENT
END:VCALENDAR
