BEGIN:VCALENDAR
VERSION:2.0
PRODID:-//hacksw/handcal//NONSGML v1.0//EN
BEGIN:VEVENT
SUMMARY:sudoku (salle D )
UID:032b9498-c8f7-4c31-bbb3-14e5513116ab
DTSTART:20260917T073000Z
DTEND:20260917T093000Z
LOCATION:Localisation   
CATEGORIES:Entrainement
STATUS:
URL;VALUE=URI:https://www.acgr22.fr/evenements/2026/09/17/sudoku-salle-d-2442347
END:VEVENT
END:VCALENDAR
