BEGIN:VCALENDAR
VERSION:2.0
PRODID:-//hacksw/handcal//NONSGML v1.0//EN
BEGIN:VEVENT
SUMMARY:Rando 15km+++
UID:cfc998b6-c634-4449-b9cd-1df4c7369217
DTSTART:20260917T110000Z
DTEND:20260917T220000Z
LOCATION:Localisation   
CATEGORIES:Entrainement
STATUS:
URL;VALUE=URI:https://www.acgr22.fr/evenements/2026/09/17/rando-15km-2442423
END:VEVENT
END:VCALENDAR
