BEGIN:VCALENDAR
VERSION:2.0
PRODID:-//hacksw/handcal//NONSGML v1.0//EN
BEGIN:VEVENT
SUMMARY:musique
UID:6edf6409-45f3-4bc4-9adc-261ac17b426d
DTSTART:20260916T073000Z
DTEND:20260916T100000Z
LOCATION:Localisation   
CATEGORIES:Entrainement
STATUS:
URL;VALUE=URI:https://www.acgr22.fr/evenements/2026/09/16/musique-2442300
END:VEVENT
END:VCALENDAR
