BEGIN:VCALENDAR
VERSION:2.0
PRODID:-//hacksw/handcal//NONSGML v1.0//EN
BEGIN:VEVENT
SUMMARY:echec -scrabble
UID:830eba0c-32de-4864-923b-cbedfcc366dd
DTSTART:20260916T073000Z
DTEND:20260916T100000Z
LOCATION:Localisation   
CATEGORIES:Entrainement
STATUS:
URL;VALUE=URI:https://www.acgr22.fr/evenements/2026/09/16/echec-scrabble-2442362
END:VEVENT
END:VCALENDAR
