BEGIN:VCALENDAR
VERSION:2.0
PRODID:-//hacksw/handcal//NONSGML v1.0//EN
BEGIN:VEVENT
SUMMARY:danse en ligne
UID:e6e9177e-467c-4ad3-b8ca-c4f0224b4340
DTSTART:20260916T123000Z
DTEND:20260916T150000Z
LOCATION:Localisation   
CATEGORIES:Entrainement
STATUS:
URL;VALUE=URI:https://www.acgr22.fr/evenements/2026/09/16/danse-en-ligne-2442227
END:VEVENT
END:VCALENDAR
