BEGIN:VCALENDAR
VERSION:2.0
PRODID:-//hacksw/handcal//NONSGML v1.0//EN
BEGIN:VEVENT
SUMMARY:Rando 5km
UID:548288bb-432b-4d47-a6e3-a58b4b026ab9
DTSTART:20260915T120000Z
DTEND:20260915T220000Z
LOCATION:Localisation   
CATEGORIES:Entrainement
STATUS:
URL;VALUE=URI:https://www.acgr22.fr/evenements/2026/09/15/rando-5km-2442407
END:VEVENT
END:VCALENDAR
