BEGIN:VCALENDAR
VERSION:2.0
PRODID:-//hacksw/handcal//NONSGML v1.0//EN
BEGIN:VEVENT
SUMMARY:photo
UID:07ac6eb6-c43e-4d46-9e98-5ddb5c8df82b
DTSTART:20260915T080000Z
DTEND:20260915T100000Z
LOCATION:Localisation   
CATEGORIES:Entrainement
STATUS:
URL;VALUE=URI:https://www.acgr22.fr/evenements/2026/09/15/photo-2442301
END:VEVENT
END:VCALENDAR
