BEGIN:VCALENDAR
VERSION:2.0
PRODID:-//hacksw/handcal//NONSGML v1.0//EN
BEGIN:VEVENT
SUMMARY:danse bretonne
UID:1120d4ef-391e-4a36-adec-322222d3c617
DTSTART:20260915T181500Z
DTEND:20260915T191500Z
LOCATION:Localisation   
CATEGORIES:Entrainement
STATUS:
URL;VALUE=URI:https://www.acgr22.fr/evenements/2026/09/15/danse-bretonne-2442332
END:VEVENT
END:VCALENDAR
