BEGIN:VCALENDAR
VERSION:2.0
PRODID:-//hacksw/handcal//NONSGML v1.0//EN
BEGIN:VEVENT
SUMMARY:Rando 8 km ou 12 km
UID:d76edc39-a9a2-478a-8881-b073d64a775b
DTSTART:20260914T113000Z
DTEND:20260914T220000Z
LOCATION:Localisation   
CATEGORIES:Entrainement
STATUS:
URL;VALUE=URI:https://www.acgr22.fr/evenements/2026/09/14/rando-8-km-ou-12-km-2442392
END:VEVENT
END:VCALENDAR
