BEGIN:VCALENDAR
VERSION:2.0
PRODID:-//hacksw/handcal//NONSGML v1.0//EN
BEGIN:VEVENT
SUMMARY:couture
UID:ac3b334a-981c-4f90-a912-10c513ce69f2
DTSTART:20260914T070000Z
DTEND:20260914T100000Z
LOCATION:Localisation   
CATEGORIES:Entrainement
STATUS:
URL;VALUE=URI:https://www.acgr22.fr/evenements/2026/09/14/couture-2441964
END:VEVENT
END:VCALENDAR
