BEGIN:VCALENDAR
VERSION:2.0
PRODID:-//hacksw/handcal//NONSGML v1.0//EN
BEGIN:VEVENT
SUMMARY:Rando 8 km
UID:dbc95508-8199-45ee-b53a-23601b93cc20
DTSTART:20260913T070000Z
DTEND:20260913T220000Z
LOCATION:Localisation   
CATEGORIES:Entrainement
STATUS:
URL;VALUE=URI:https://www.acgr22.fr/evenements/2026/09/13/rando-8-km-2442424
END:VEVENT
END:VCALENDAR
