BEGIN:VCALENDAR
VERSION:2.0
PRODID:-//hacksw/handcal//NONSGML v1.0//EN
BEGIN:VEVENT
SUMMARY:permanence - jeux de societe
UID:c2bcf7ad-293d-483b-b95b-45511693237e
DTSTART:20260911T113000Z
DTEND:20260911T143000Z
LOCATION:Localisation   
CATEGORIES:Entrainement
STATUS:
URL;VALUE=URI:https://www.acgr22.fr/evenements/2026/09/11/permanence-jeux-de-societe-2442363
END:VEVENT
END:VCALENDAR
