BEGIN:VCALENDAR
VERSION:2.0
PRODID:-//hacksw/handcal//NONSGML v1.0//EN
BEGIN:VEVENT
SUMMARY:peinture
UID:505ca6d4-107a-4d6f-9aea-334245638c28
DTSTART:20260911T071500Z
DTEND:20260911T100000Z
LOCATION:Localisation   
CATEGORIES:Entrainement
STATUS:
URL;VALUE=URI:https://www.acgr22.fr/evenements/2026/09/11/peinture-2441293
END:VEVENT
END:VCALENDAR
