BEGIN:VCALENDAR
VERSION:2.0
PRODID:-//hacksw/handcal//NONSGML v1.0//EN
BEGIN:VEVENT
SUMMARY:yoga
UID:418f8aea-dbd8-4c6f-a208-0af121d784d3
DTSTART:20260910T070000Z
DTEND:20260910T083000Z
LOCATION:Localisation   
CATEGORIES:Entrainement
STATUS:
URL;VALUE=URI:https://www.acgr22.fr/evenements/2026/09/10/yoga-2441892
END:VEVENT
END:VCALENDAR
