BEGIN:VCALENDAR
VERSION:2.0
PRODID:-//hacksw/handcal//NONSGML v1.0//EN
BEGIN:VEVENT
SUMMARY:Rando 15km+++
UID:4e7c8b6d-0cf3-4dda-9e2e-29510c7980c3
DTSTART:20260910T110000Z
DTEND:20260910T220000Z
LOCATION:Localisation   
CATEGORIES:Entrainement
STATUS:
URL;VALUE=URI:https://www.acgr22.fr/evenements/2026/09/10/rando-15km-2442409
END:VEVENT
END:VCALENDAR
