BEGIN:VCALENDAR
VERSION:2.0
PRODID:-//hacksw/handcal//NONSGML v1.0//EN
BEGIN:VEVENT
SUMMARY:Rando 5km
UID:7371d18e-4a98-4fdf-a68c-b78b5aa91361
DTSTART:20260908T120000Z
DTEND:20260908T220000Z
LOCATION:Localisation   
CATEGORIES:Entrainement
STATUS:
URL;VALUE=URI:https://www.acgr22.fr/evenements/2026/09/08/rando-5km-2442393
END:VEVENT
END:VCALENDAR
