BEGIN:VCALENDAR
VERSION:2.0
PRODID:-//hacksw/handcal//NONSGML v1.0//EN
BEGIN:VEVENT
SUMMARY:danse bretonne
UID:4011dc73-03bc-4871-aba5-c2a6eed95f3b
DTSTART:20260908T181500Z
DTEND:20260908T191500Z
LOCATION:Localisation   
CATEGORIES:Entrainement
STATUS:
URL;VALUE=URI:https://www.acgr22.fr/evenements/2026/09/08/danse-bretonne-2442318
END:VEVENT
END:VCALENDAR
