BEGIN:VCALENDAR
VERSION:2.0
PRODID:-//hacksw/handcal//NONSGML v1.0//EN
BEGIN:VEVENT
SUMMARY:Rando 8 km ou 12 km
UID:bd820681-81d2-49f9-a922-bbd7b74830a8
DTSTART:20260907T113000Z
DTEND:20260907T220000Z
LOCATION:Localisation   
CATEGORIES:Entrainement
STATUS:
URL;VALUE=URI:https://www.acgr22.fr/evenements/2026/09/07/rando-8-km-ou-12-km-2442378
END:VEVENT
END:VCALENDAR
